BEGIN:VCALENDAR
VERSION:2.0
PRODID:-//Library Market//iCal Export//EN
BEGIN:VEVENT
SUMMARY:Patron Use
UID:25009
DTSTAMP:20260420T120800Z
DTSTART:20260430T223000Z
DTEND:20260430T233000Z
LOCATION:100 Thompson St, Port Jefferson, NY 11777, United States
ROOM: Conference Room
DESCRIPTION:
URL:https://portjeff.librarycalendar.com/event/patron-use-25009
END:VEVENT
END:VCALENDAR
