BEGIN:VCALENDAR
VERSION:2.0
PRODID:-//Library Market//iCal Export//EN
BEGIN:VEVENT
SUMMARY:All about Flowers
UID:24985
DTSTAMP:20260420T142600Z
DTSTART:20260515T190000Z
DTEND:20260515T200000Z
LOCATION:205 East Main Street, Port Jefferson, NY 11777, United States
ROOM: Teen Center
DESCRIPTION:Learn how to care for them and assemble a cone bouquet. 
URL:https://portjeff.librarycalendar.com/event/all-about-flowers-24985
END:VEVENT
END:VCALENDAR
